BEGIN:VCALENDAR
VERSION:2.0
PRODID:-//The Warehouse Cafe - ECPv6.15.20//NONSGML v1.0//EN
CALSCALE:GREGORIAN
METHOD:PUBLISH
X-ORIGINAL-URL:https://thewarehousecafebonita.com
X-WR-CALDESC:Events for The Warehouse Cafe
REFRESH-INTERVAL;VALUE=DURATION:PT1H
X-Robots-Tag:noindex
X-PUBLISHED-TTL:PT1H
BEGIN:VTIMEZONE
TZID:America/New_York
BEGIN:DAYLIGHT
TZOFFSETFROM:-0500
TZOFFSETTO:-0400
TZNAME:EDT
DTSTART:20250309T070000
END:DAYLIGHT
BEGIN:STANDARD
TZOFFSETFROM:-0400
TZOFFSETTO:-0500
TZNAME:EST
DTSTART:20251102T060000
END:STANDARD
BEGIN:DAYLIGHT
TZOFFSETFROM:-0500
TZOFFSETTO:-0400
TZNAME:EDT
DTSTART:20260308T070000
END:DAYLIGHT
BEGIN:STANDARD
TZOFFSETFROM:-0400
TZOFFSETTO:-0500
TZNAME:EST
DTSTART:20261101T060000
END:STANDARD
BEGIN:DAYLIGHT
TZOFFSETFROM:-0500
TZOFFSETTO:-0400
TZNAME:EDT
DTSTART:20270314T070000
END:DAYLIGHT
BEGIN:STANDARD
TZOFFSETFROM:-0400
TZOFFSETTO:-0500
TZNAME:EST
DTSTART:20271107T060000
END:STANDARD
END:VTIMEZONE
BEGIN:VEVENT
DTSTART;VALUE=DATE:20261018
DTEND;VALUE=DATE:20261019
DTSTAMP:20260421T162201
CREATED:20251110T173945Z
LAST-MODIFIED:20251110T174624Z
UID:10000054-1792281600-1792367999@thewarehousecafebonita.com
SUMMARY:Restoration House Inc. Ministry Events
DESCRIPTION:We have several Bible Studies and Ministry Events that you are welcome to attend.  Our nonprofit\, Restoration House Inc. hosts them in The Warehouse Cafe space.  Click this listing and then click the link to see what’s happening.
URL:https://thewarehousecafebonita.com/event/restoration-house-inc-ministry-events/2026-10-18/
ATTACH;FMTTYPE=image/jpeg:https://thewarehousecafebonita.com/wp-content/uploads/2024/12/close-up-of-businessman-drinking-coffee-during-meeting-with-colleague-in-a-cafe-.jpg
END:VEVENT
BEGIN:VEVENT
DTSTART;VALUE=DATE:20261115
DTEND;VALUE=DATE:20261116
DTSTAMP:20260421T162201
CREATED:20251110T173945Z
LAST-MODIFIED:20251110T174624Z
UID:10000058-1794700800-1794787199@thewarehousecafebonita.com
SUMMARY:Restoration House Inc. Ministry Events
DESCRIPTION:We have several Bible Studies and Ministry Events that you are welcome to attend.  Our nonprofit\, Restoration House Inc. hosts them in The Warehouse Cafe space.  Click this listing and then click the link to see what’s happening.
URL:https://thewarehousecafebonita.com/event/restoration-house-inc-ministry-events/2026-11-15/
ATTACH;FMTTYPE=image/jpeg:https://thewarehousecafebonita.com/wp-content/uploads/2024/12/close-up-of-businessman-drinking-coffee-during-meeting-with-colleague-in-a-cafe-.jpg
END:VEVENT
BEGIN:VEVENT
DTSTART;VALUE=DATE:20261220
DTEND;VALUE=DATE:20261221
DTSTAMP:20260421T162201
CREATED:20251110T173945Z
LAST-MODIFIED:20251110T174624Z
UID:10000063-1797724800-1797811199@thewarehousecafebonita.com
SUMMARY:Restoration House Inc. Ministry Events
DESCRIPTION:We have several Bible Studies and Ministry Events that you are welcome to attend.  Our nonprofit\, Restoration House Inc. hosts them in The Warehouse Cafe space.  Click this listing and then click the link to see what’s happening.
URL:https://thewarehousecafebonita.com/event/restoration-house-inc-ministry-events/2026-12-20/
ATTACH;FMTTYPE=image/jpeg:https://thewarehousecafebonita.com/wp-content/uploads/2024/12/close-up-of-businessman-drinking-coffee-during-meeting-with-colleague-in-a-cafe-.jpg
END:VEVENT
END:VCALENDAR